BEGIN:VCALENDAR
VERSION:2.0
PRODID:-//NADI Kg Baru Seri Sentosa - ECPv6.15.13.1//NONSGML v1.0//EN
CALSCALE:GREGORIAN
METHOD:PUBLISH
X-WR-CALNAME:NADI Kg Baru Seri Sentosa
X-ORIGINAL-URL:https://kgbarusentosa.nadi.my
X-WR-CALDESC:Events for NADI Kg Baru Seri Sentosa
REFRESH-INTERVAL;VALUE=DURATION:PT1H
X-Robots-Tag:noindex
X-PUBLISHED-TTL:PT1H
BEGIN:VTIMEZONE
TZID:UTC
BEGIN:STANDARD
TZOFFSETFROM:+0000
TZOFFSETTO:+0000
TZNAME:UTC
DTSTART:20210101T000000
END:STANDARD
END:VTIMEZONE
BEGIN:VEVENT
DTSTART;TZID=UTC:20220408T090000
DTEND;TZID=UTC:20220408T235959
DTSTAMP:20260425T001314
CREATED:20220402T194557Z
LAST-MODIFIED:20220402T194557Z
UID:4826-1649408400-1649462399@kgbarusentosa.nadi.my
SUMMARY:Program E-Tuisyen PEDi *Rujuk Jadual E-Tuisyen
DESCRIPTION:
URL:https://kgbarusentosa.nadi.my/event/program-e-tuisyen-pedi-rujuk-jadual-e-tuisyen/
CATEGORIES:DEFAULT
END:VEVENT
BEGIN:VEVENT
DTSTART;TZID=UTC:20220409T100000
DTEND;TZID=UTC:20220409T235959
DTSTAMP:20260425T001314
CREATED:20220402T194654Z
LAST-MODIFIED:20220402T194654Z
UID:4827-1649498400-1649548799@kgbarusentosa.nadi.my
SUMMARY:E-Kerajaan : Pengeluaran Khas KWSP
DESCRIPTION:
URL:https://kgbarusentosa.nadi.my/event/e-kerajaan-pengeluaran-khas-kwsp/
CATEGORIES:DEFAULT
END:VEVENT
BEGIN:VEVENT
DTSTART;TZID=UTC:20220410T100000
DTEND;TZID=UTC:20220410T235959
DTSTAMP:20260425T001314
CREATED:20220402T194740Z
LAST-MODIFIED:20220402T194740Z
UID:4828-1649584800-1649635199@kgbarusentosa.nadi.my
SUMMARY:Advokasi : Penyamaran Atas Talian
DESCRIPTION:
URL:https://kgbarusentosa.nadi.my/event/advokasi-penyamaran-atas-talian/
CATEGORIES:DEFAULT
END:VEVENT
BEGIN:VEVENT
DTSTART;TZID=UTC:20220416T090000
DTEND;TZID=UTC:20220416T235959
DTSTAMP:20260425T001314
CREATED:20220402T194812Z
LAST-MODIFIED:20220402T194812Z
UID:4829-1650099600-1650153599@kgbarusentosa.nadi.my
SUMMARY:Asas Microsoft Power Point
DESCRIPTION:
URL:https://kgbarusentosa.nadi.my/event/asas-microsoft-power-point/
CATEGORIES:DEFAULT
END:VEVENT
BEGIN:VEVENT
DTSTART;TZID=UTC:20220422T100000
DTEND;TZID=UTC:20220422T235959
DTSTAMP:20260425T001314
CREATED:20220402T194839Z
LAST-MODIFIED:20220402T194839Z
UID:4830-1650621600-1650671999@kgbarusentosa.nadi.my
SUMMARY:E-Perniagaan : Perbankan Atas Talian
DESCRIPTION:
URL:https://kgbarusentosa.nadi.my/event/e-perniagaan-perbankan-atas-talian-3/
CATEGORIES:DEFAULT
END:VEVENT
END:VCALENDAR