BEGIN:VCALENDAR
VERSION:2.0
PRODID:-//NADI Kg Baru Seri Sentosa - ECPv6.15.13.1//NONSGML v1.0//EN
CALSCALE:GREGORIAN
METHOD:PUBLISH
X-WR-CALNAME:NADI Kg Baru Seri Sentosa
X-ORIGINAL-URL:https://kgbarusentosa.nadi.my
X-WR-CALDESC:Events for NADI Kg Baru Seri Sentosa
REFRESH-INTERVAL;VALUE=DURATION:PT1H
X-Robots-Tag:noindex
X-PUBLISHED-TTL:PT1H
BEGIN:VTIMEZONE
TZID:UTC
BEGIN:STANDARD
TZOFFSETFROM:+0000
TZOFFSETTO:+0000
TZNAME:UTC
DTSTART:20210101T000000
END:STANDARD
END:VTIMEZONE
BEGIN:VEVENT
DTSTART;TZID=UTC:20221002T090000
DTEND;TZID=UTC:20221002T235959
DTSTAMP:20260422T184839
CREATED:20221001T184828Z
LAST-MODIFIED:20221001T184828Z
UID:4850-1664701200-1664755199@kgbarusentosa.nadi.my
SUMMARY:Program E-Tuisyen PEDi *Rujuk Jadual
DESCRIPTION:
URL:https://kgbarusentosa.nadi.my/event/program-e-tuisyen-pedi-rujuk-jadual-4/
CATEGORIES:DEFAULT
END:VEVENT
BEGIN:VEVENT
DTSTART;TZID=UTC:20221002T090000
DTEND;TZID=UTC:20221002T235959
DTSTAMP:20260422T184839
CREATED:20221001T184852Z
LAST-MODIFIED:20221001T184852Z
UID:4851-1664701200-1664755199@kgbarusentosa.nadi.my
SUMMARY:E-Pembelajaran : Kuiz Atas Talian
DESCRIPTION:
URL:https://kgbarusentosa.nadi.my/event/e-pembelajaran-kuiz-atas-talian/
CATEGORIES:DEFAULT
END:VEVENT
BEGIN:VEVENT
DTSTART;TZID=UTC:20221004T090000
DTEND;TZID=UTC:20221004T235959
DTSTAMP:20260422T184839
CREATED:20221001T184919Z
LAST-MODIFIED:20221001T184919Z
UID:4852-1664874000-1664927999@kgbarusentosa.nadi.my
SUMMARY:Advokasi : Teknologi dan ICT
DESCRIPTION:
URL:https://kgbarusentosa.nadi.my/event/advokasi-teknologi-dan-ict/
CATEGORIES:DEFAULT
END:VEVENT
BEGIN:VEVENT
DTSTART;TZID=UTC:20221008T090000
DTEND;TZID=UTC:20221008T235959
DTSTAMP:20260422T184839
CREATED:20221001T184947Z
LAST-MODIFIED:20221001T184947Z
UID:4853-1665219600-1665273599@kgbarusentosa.nadi.my
SUMMARY:E-Perisian : Kemahiran Microsoft Word
DESCRIPTION:
URL:https://kgbarusentosa.nadi.my/event/e-perisian-kemahiran-microsoft-word/
CATEGORIES:DEFAULT
END:VEVENT
BEGIN:VEVENT
DTSTART;TZID=UTC:20221015T090000
DTEND;TZID=UTC:20221015T235959
DTSTAMP:20260422T184839
CREATED:20221001T185009Z
LAST-MODIFIED:20221001T185009Z
UID:4854-1665824400-1665878399@kgbarusentosa.nadi.my
SUMMARY:E-Keushawanan : Perbankan Atas Talian
DESCRIPTION:
URL:https://kgbarusentosa.nadi.my/event/e-keushawanan-perbankan-atas-talian/
CATEGORIES:DEFAULT
END:VEVENT
END:VCALENDAR