BEGIN:VCALENDAR
VERSION:2.0
PRODID:-//NADI Kg Baru Seri Sentosa - ECPv6.15.13.1//NONSGML v1.0//EN
CALSCALE:GREGORIAN
METHOD:PUBLISH
X-WR-CALNAME:NADI Kg Baru Seri Sentosa
X-ORIGINAL-URL:https://kgbarusentosa.nadi.my
X-WR-CALDESC:Events for NADI Kg Baru Seri Sentosa
REFRESH-INTERVAL;VALUE=DURATION:PT1H
X-Robots-Tag:noindex
X-PUBLISHED-TTL:PT1H
BEGIN:VTIMEZONE
TZID:UTC
BEGIN:STANDARD
TZOFFSETFROM:+0000
TZOFFSETTO:+0000
TZNAME:UTC
DTSTART:20210101T000000
END:STANDARD
END:VTIMEZONE
BEGIN:VEVENT
DTSTART;TZID=UTC:20221103T090000
DTEND;TZID=UTC:20221103T235959
DTSTAMP:20260424T090334
CREATED:20221101T002803Z
LAST-MODIFIED:20221101T002803Z
UID:4855-1667466000-1667519999@kgbarusentosa.nadi.my
SUMMARY:Program E-Tuisyen PEDi November *Rujuk Jadual
DESCRIPTION:
URL:https://kgbarusentosa.nadi.my/event/program-e-tuisyen-pedi-november-rujuk-jadual/
CATEGORIES:DEFAULT
END:VEVENT
BEGIN:VEVENT
DTSTART;TZID=UTC:20221105T090000
DTEND;TZID=UTC:20221105T235959
DTSTAMP:20260424T090334
CREATED:20221101T005132Z
LAST-MODIFIED:20221101T005132Z
UID:4856-1667638800-1667692799@kgbarusentosa.nadi.my
SUMMARY:E-Aplikasi : Typing.com
DESCRIPTION:
URL:https://kgbarusentosa.nadi.my/event/e-aplikasi-typing-com/
CATEGORIES:DEFAULT
END:VEVENT
BEGIN:VEVENT
DTSTART;TZID=UTC:20221106T090000
DTEND;TZID=UTC:20221106T235959
DTSTAMP:20260424T090334
CREATED:20221101T005439Z
LAST-MODIFIED:20221101T005439Z
UID:4857-1667725200-1667779199@kgbarusentosa.nadi.my
SUMMARY:Bengkel Pengisian Permohonan Sumbangan Pendidikan Zakat
DESCRIPTION:
URL:https://kgbarusentosa.nadi.my/event/bengkel-pengisian-permohonan-sumbangan-pendidikan-zakat/
CATEGORIES:DEFAULT
END:VEVENT
BEGIN:VEVENT
DTSTART;TZID=UTC:20221112T090000
DTEND;TZID=UTC:20221112T235959
DTSTAMP:20260424T090334
CREATED:20221101T005504Z
LAST-MODIFIED:20221101T005504Z
UID:4858-1668243600-1668297599@kgbarusentosa.nadi.my
SUMMARY:Advokasi : Penipuan Kewangan
DESCRIPTION:
URL:https://kgbarusentosa.nadi.my/event/advokasi-penipuan-kewangan-2/
CATEGORIES:DEFAULT
END:VEVENT
BEGIN:VEVENT
DTSTART;TZID=UTC:20221120T090000
DTEND;TZID=UTC:20221120T235959
DTSTAMP:20260424T090334
CREATED:20221101T005545Z
LAST-MODIFIED:20221101T005545Z
UID:4859-1668934800-1668988799@kgbarusentosa.nadi.my
SUMMARY:E-Perisian : Kemahiran Microsoft Excel
DESCRIPTION:
URL:https://kgbarusentosa.nadi.my/event/e-perisian-kemahiran-microsoft-excel/
CATEGORIES:DEFAULT
END:VEVENT
END:VCALENDAR