BEGIN:VCALENDAR
VERSION:2.0
PRODID:-//NADI Kg Baru Seri Sentosa - ECPv6.15.13.1//NONSGML v1.0//EN
CALSCALE:GREGORIAN
METHOD:PUBLISH
X-WR-CALNAME:NADI Kg Baru Seri Sentosa
X-ORIGINAL-URL:https://kgbarusentosa.nadi.my
X-WR-CALDESC:Events for NADI Kg Baru Seri Sentosa
REFRESH-INTERVAL;VALUE=DURATION:PT1H
X-Robots-Tag:noindex
X-PUBLISHED-TTL:PT1H
BEGIN:VTIMEZONE
TZID:UTC
BEGIN:STANDARD
TZOFFSETFROM:+0000
TZOFFSETTO:+0000
TZNAME:UTC
DTSTART:20210101T000000
END:STANDARD
END:VTIMEZONE
BEGIN:VEVENT
DTSTART;TZID=UTC:20221203T090000
DTEND;TZID=UTC:20221203T235959
DTSTAMP:20260423T093621
CREATED:20221201T181943Z
LAST-MODIFIED:20221201T181943Z
UID:4860-1670058000-1670111999@kgbarusentosa.nadi.my
SUMMARY:Program E-Tuisyen *Rujuk Jadual
DESCRIPTION:
URL:https://kgbarusentosa.nadi.my/event/program-e-tuisyen-rujuk-jadual/
CATEGORIES:DEFAULT
END:VEVENT
BEGIN:VEVENT
DTSTART;TZID=UTC:20221203T100000
DTEND;TZID=UTC:20221203T235959
DTSTAMP:20260423T093621
CREATED:20221201T182031Z
LAST-MODIFIED:20221201T182031Z
UID:4861-1670061600-1670111999@kgbarusentosa.nadi.my
SUMMARY:E-Pembelajaran : Microsoft Power Point
DESCRIPTION:
URL:https://kgbarusentosa.nadi.my/event/e-pembelajaran-microsoft-power-point/
CATEGORIES:DEFAULT
END:VEVENT
BEGIN:VEVENT
DTSTART;TZID=UTC:20221210T090000
DTEND;TZID=UTC:20221210T235959
DTSTAMP:20260423T093621
CREATED:20221201T182104Z
LAST-MODIFIED:20221201T182104Z
UID:4862-1670662800-1670716799@kgbarusentosa.nadi.my
SUMMARY:Advokasi : Online Games
DESCRIPTION:
URL:https://kgbarusentosa.nadi.my/event/advokasi-online-games/
CATEGORIES:DEFAULT
END:VEVENT
BEGIN:VEVENT
DTSTART;TZID=UTC:20221214T080000
DTEND;TZID=UTC:20221214T235959
DTSTAMP:20260423T093621
CREATED:20221201T185155Z
LAST-MODIFIED:20221201T185155Z
UID:4863-1671004800-1671062399@kgbarusentosa.nadi.my
SUMMARY:E-Perisian : Word Search
DESCRIPTION:
URL:https://kgbarusentosa.nadi.my/event/e-perisian-word-search/
CATEGORIES:DEFAULT
END:VEVENT
BEGIN:VEVENT
DTSTART;TZID=UTC:20221217T090000
DTEND;TZID=UTC:20221217T235959
DTSTAMP:20260423T093621
CREATED:20221201T185221Z
LAST-MODIFIED:20221201T185221Z
UID:4864-1671267600-1671321599@kgbarusentosa.nadi.my
SUMMARY:E-Keusahawanan : Pengurusan Jualan
DESCRIPTION:
URL:https://kgbarusentosa.nadi.my/event/e-keusahawanan-pengurusan-jualan/
CATEGORIES:DEFAULT
END:VEVENT
END:VCALENDAR