BEGIN:VCALENDAR
VERSION:2.0
PRODID:-//NADI Kg Baru Seri Sentosa - ECPv6.15.13.1//NONSGML v1.0//EN
CALSCALE:GREGORIAN
METHOD:PUBLISH
X-WR-CALNAME:NADI Kg Baru Seri Sentosa
X-ORIGINAL-URL:https://kgbarusentosa.nadi.my
X-WR-CALDESC:Events for NADI Kg Baru Seri Sentosa
REFRESH-INTERVAL;VALUE=DURATION:PT1H
X-Robots-Tag:noindex
X-PUBLISHED-TTL:PT1H
BEGIN:VTIMEZONE
TZID:UTC
BEGIN:STANDARD
TZOFFSETFROM:+0000
TZOFFSETTO:+0000
TZNAME:UTC
DTSTART:20220101T000000
END:STANDARD
END:VTIMEZONE
BEGIN:VEVENT
DTSTART;TZID=UTC:20230107T080000
DTEND;TZID=UTC:20230107T235959
DTSTAMP:20260423T093651
CREATED:20230101T192327Z
LAST-MODIFIED:20230101T192327Z
UID:4865-1673078400-1673135999@kgbarusentosa.nadi.my
SUMMARY:Program E-Tuisyen *Rujuk Jadual
DESCRIPTION:
URL:https://kgbarusentosa.nadi.my/event/program-e-tuisyen-rujuk-jadual-2/
CATEGORIES:DEFAULT
END:VEVENT
BEGIN:VEVENT
DTSTART;TZID=UTC:20230107T090000
DTEND;TZID=UTC:20230107T235959
DTSTAMP:20260423T093651
CREATED:20230101T192416Z
LAST-MODIFIED:20230101T192416Z
UID:4866-1673082000-1673135999@kgbarusentosa.nadi.my
SUMMARY:E-Pembelajaran : Poster Tahun Baru
DESCRIPTION:
URL:https://kgbarusentosa.nadi.my/event/e-pembelajaran-poster-tahun-baru/
CATEGORIES:DEFAULT
END:VEVENT
BEGIN:VEVENT
DTSTART;TZID=UTC:20230114T090000
DTEND;TZID=UTC:20230114T235959
DTSTAMP:20260423T093651
CREATED:20230101T192455Z
LAST-MODIFIED:20230101T192455Z
UID:4867-1673686800-1673740799@kgbarusentosa.nadi.my
SUMMARY:E-Keusahawanan : Asas Shopee
DESCRIPTION:
URL:https://kgbarusentosa.nadi.my/event/e-keusahawanan-asas-shopee-2/
CATEGORIES:DEFAULT
END:VEVENT
BEGIN:VEVENT
DTSTART;TZID=UTC:20230121T090000
DTEND;TZID=UTC:20230121T235959
DTSTAMP:20260423T093651
CREATED:20230101T192527Z
LAST-MODIFIED:20230101T192527Z
UID:4868-1674291600-1674345599@kgbarusentosa.nadi.my
SUMMARY:E-Perisian : Kemahiran 'typing.com'
DESCRIPTION:
URL:https://kgbarusentosa.nadi.my/event/e-perisian-kemahiran-typing-com/
CATEGORIES:DEFAULT
END:VEVENT
BEGIN:VEVENT
DTSTART;TZID=UTC:20230125T090000
DTEND;TZID=UTC:20230125T235959
DTSTAMP:20260423T093651
CREATED:20230101T192627Z
LAST-MODIFIED:20230101T192627Z
UID:4869-1674637200-1674691199@kgbarusentosa.nadi.my
SUMMARY:E-Kerajaan : Permohonan Pasport Atas Talian
DESCRIPTION:
URL:https://kgbarusentosa.nadi.my/event/e-kerajaan-permohonan-pasport-atas-talian/
CATEGORIES:DEFAULT
END:VEVENT
END:VCALENDAR