BEGIN:VCALENDAR
VERSION:2.0
PRODID:-//NADI Kg Baru Seri Sentosa - ECPv6.15.13.1//NONSGML v1.0//EN
CALSCALE:GREGORIAN
METHOD:PUBLISH
X-WR-CALNAME:NADI Kg Baru Seri Sentosa
X-ORIGINAL-URL:https://kgbarusentosa.nadi.my
X-WR-CALDESC:Events for NADI Kg Baru Seri Sentosa
REFRESH-INTERVAL;VALUE=DURATION:PT1H
X-Robots-Tag:noindex
X-PUBLISHED-TTL:PT1H
BEGIN:VTIMEZONE
TZID:UTC
BEGIN:STANDARD
TZOFFSETFROM:+0000
TZOFFSETTO:+0000
TZNAME:UTC
DTSTART:20220101T000000
END:STANDARD
END:VTIMEZONE
BEGIN:VEVENT
DTSTART;TZID=UTC:20230204T090000
DTEND;TZID=UTC:20230204T235959
DTSTAMP:20260422T072136
CREATED:20230202T225817Z
LAST-MODIFIED:20230202T225817Z
UID:4870-1675501200-1675555199@kgbarusentosa.nadi.my
SUMMARY:Program E-Tuisyen *Rujuk Jadual
DESCRIPTION:
URL:https://kgbarusentosa.nadi.my/event/program-e-tuisyen-rujuk-jadual-3/
CATEGORIES:DEFAULT
END:VEVENT
BEGIN:VEVENT
DTSTART;TZID=UTC:20230211T090000
DTEND;TZID=UTC:20230211T235959
DTSTAMP:20260422T072136
CREATED:20230202T225856Z
LAST-MODIFIED:20230202T225856Z
UID:4871-1676106000-1676159999@kgbarusentosa.nadi.my
SUMMARY:E-Pembelajaran : Poster Hari Thaipusam
DESCRIPTION:
URL:https://kgbarusentosa.nadi.my/event/e-pembelajaran-poster-hari-thaipusam/
CATEGORIES:DEFAULT
END:VEVENT
BEGIN:VEVENT
DTSTART;TZID=UTC:20230217T090000
DTEND;TZID=UTC:20230217T235959
DTSTAMP:20260422T072136
CREATED:20230202T230002Z
LAST-MODIFIED:20230202T230002Z
UID:4872-1676624400-1676678399@kgbarusentosa.nadi.my
SUMMARY:E-Keusahawanan : Pemasaran Produk
DESCRIPTION:
URL:https://kgbarusentosa.nadi.my/event/e-keusahawanan-pemasaran-produk/
CATEGORIES:DEFAULT
END:VEVENT
BEGIN:VEVENT
DTSTART;TZID=UTC:20230218T090000
DTEND;TZID=UTC:20230218T235959
DTSTAMP:20260422T072136
CREATED:20230202T230105Z
LAST-MODIFIED:20230202T230105Z
UID:4873-1676710800-1676764799@kgbarusentosa.nadi.my
SUMMARY:E-Pembelajaran : Asas Komputer
DESCRIPTION:
URL:https://kgbarusentosa.nadi.my/event/e-pembelajaran-asas-komputer/
CATEGORIES:DEFAULT
END:VEVENT
BEGIN:VEVENT
DTSTART;TZID=UTC:20230222T090000
DTEND;TZID=UTC:20230222T235959
DTSTAMP:20260422T072136
CREATED:20230202T230135Z
LAST-MODIFIED:20230202T230135Z
UID:4874-1677056400-1677110399@kgbarusentosa.nadi.my
SUMMARY:Advokasi : Buli Siber
DESCRIPTION:
URL:https://kgbarusentosa.nadi.my/event/advokasi-buli-siber/
CATEGORIES:DEFAULT
END:VEVENT
END:VCALENDAR