BEGIN:VCALENDAR
VERSION:2.0
PRODID:-//NADI Kg Baru Seri Sentosa - ECPv6.15.13.1//NONSGML v1.0//EN
CALSCALE:GREGORIAN
METHOD:PUBLISH
X-WR-CALNAME:NADI Kg Baru Seri Sentosa
X-ORIGINAL-URL:https://kgbarusentosa.nadi.my
X-WR-CALDESC:Events for NADI Kg Baru Seri Sentosa
REFRESH-INTERVAL;VALUE=DURATION:PT1H
X-Robots-Tag:noindex
X-PUBLISHED-TTL:PT1H
BEGIN:VTIMEZONE
TZID:UTC
BEGIN:STANDARD
TZOFFSETFROM:+0000
TZOFFSETTO:+0000
TZNAME:UTC
DTSTART:20220101T000000
END:STANDARD
END:VTIMEZONE
BEGIN:VEVENT
DTSTART;TZID=UTC:20230304T090000
DTEND;TZID=UTC:20230304T235959
DTSTAMP:20260422T105614
CREATED:20230302T181057Z
LAST-MODIFIED:20230302T181057Z
UID:4875-1677920400-1677974399@kgbarusentosa.nadi.my
SUMMARY:Program E-Tuisyen PEDi Mac *Rujuk Jadual
DESCRIPTION:
URL:https://kgbarusentosa.nadi.my/event/program-e-tuisyen-pedi-mac-rujuk-jadual/
CATEGORIES:DEFAULT
END:VEVENT
BEGIN:VEVENT
DTSTART;TZID=UTC:20230305T090000
DTEND;TZID=UTC:20230305T235959
DTSTAMP:20260422T105614
CREATED:20230302T181136Z
LAST-MODIFIED:20230302T181136Z
UID:4876-1678006800-1678060799@kgbarusentosa.nadi.my
SUMMARY:E-Perisian : Painting Atas Talian
DESCRIPTION:
URL:https://kgbarusentosa.nadi.my/event/e-perisian-painting-atas-talian/
CATEGORIES:DEFAULT
END:VEVENT
BEGIN:VEVENT
DTSTART;TZID=UTC:20230308T090000
DTEND;TZID=UTC:20230308T235959
DTSTAMP:20260422T105614
CREATED:20230302T181207Z
LAST-MODIFIED:20230302T181207Z
UID:4877-1678266000-1678319999@kgbarusentosa.nadi.my
SUMMARY:Suntinga Video Advokasi
DESCRIPTION:
URL:https://kgbarusentosa.nadi.my/event/suntinga-video-advokasi/
CATEGORIES:DEFAULT
END:VEVENT
BEGIN:VEVENT
DTSTART;TZID=UTC:20230311T090000
DTEND;TZID=UTC:20230311T235959
DTSTAMP:20260422T105614
CREATED:20230302T181234Z
LAST-MODIFIED:20230302T181234Z
UID:4878-1678525200-1678579199@kgbarusentosa.nadi.my
SUMMARY:Advokasi : Penggunaan Media Sosial
DESCRIPTION:
URL:https://kgbarusentosa.nadi.my/event/advokasi-penggunaan-media-sosial/
CATEGORIES:DEFAULT
END:VEVENT
BEGIN:VEVENT
DTSTART;TZID=UTC:20230318T090000
DTEND;TZID=UTC:20230318T235959
DTSTAMP:20260422T105614
CREATED:20230302T181302Z
LAST-MODIFIED:20230302T181302Z
UID:4879-1679130000-1679183999@kgbarusentosa.nadi.my
SUMMARY:E-Keusahawanan : Pendaftaran SSM
DESCRIPTION:
URL:https://kgbarusentosa.nadi.my/event/e-keusahawanan-pendaftaran-ssm/
CATEGORIES:DEFAULT
END:VEVENT
END:VCALENDAR