BEGIN:VCALENDAR
VERSION:2.0
PRODID:-//NADI Kg Baru Seri Sentosa - ECPv6.15.13.1//NONSGML v1.0//EN
CALSCALE:GREGORIAN
METHOD:PUBLISH
X-WR-CALNAME:NADI Kg Baru Seri Sentosa
X-ORIGINAL-URL:https://kgbarusentosa.nadi.my
X-WR-CALDESC:Events for NADI Kg Baru Seri Sentosa
REFRESH-INTERVAL;VALUE=DURATION:PT1H
X-Robots-Tag:noindex
X-PUBLISHED-TTL:PT1H
BEGIN:VTIMEZONE
TZID:UTC
BEGIN:STANDARD
TZOFFSETFROM:+0000
TZOFFSETTO:+0000
TZNAME:UTC
DTSTART:20220101T000000
END:STANDARD
END:VTIMEZONE
BEGIN:VEVENT
DTSTART;TZID=UTC:20230401T090000
DTEND;TZID=UTC:20230401T235959
DTSTAMP:20260422T041518
CREATED:20230331T232254Z
LAST-MODIFIED:20230331T232254Z
UID:4880-1680339600-1680393599@kgbarusentosa.nadi.my
SUMMARY:Program E-Tuisyen dan E-Learning *Rujuk Jadual
DESCRIPTION:
URL:https://kgbarusentosa.nadi.my/event/program-e-tuisyen-dan-e-learning-rujuk-jadual/
CATEGORIES:DEFAULT
END:VEVENT
BEGIN:VEVENT
DTSTART;TZID=UTC:20230401T100000
DTEND;TZID=UTC:20230401T235959
DTSTAMP:20260422T041518
CREATED:20230331T232321Z
LAST-MODIFIED:20230331T232321Z
UID:4881-1680343200-1680393599@kgbarusentosa.nadi.my
SUMMARY:Pengenalan Perkakas Komputer
DESCRIPTION:
URL:https://kgbarusentosa.nadi.my/event/pengenalan-perkakas-komputer-2/
CATEGORIES:DEFAULT
END:VEVENT
BEGIN:VEVENT
DTSTART;TZID=UTC:20230402T090000
DTEND;TZID=UTC:20230402T235959
DTSTAMP:20260422T041518
CREATED:20230331T232602Z
LAST-MODIFIED:20230331T232602Z
UID:4882-1680426000-1680479999@kgbarusentosa.nadi.my
SUMMARY:Advokasi : Jenayah Siber
DESCRIPTION:
URL:https://kgbarusentosa.nadi.my/event/advokasi-jenayah-siber/
CATEGORIES:DEFAULT
END:VEVENT
BEGIN:VEVENT
DTSTART;TZID=UTC:20230409T090000
DTEND;TZID=UTC:20230409T235959
DTSTAMP:20260422T041518
CREATED:20230331T232643Z
LAST-MODIFIED:20230331T232643Z
UID:4883-1681030800-1681084799@kgbarusentosa.nadi.my
SUMMARY:E-Pembelajaran : Kuiz Atas Talian Advokasi
DESCRIPTION:
URL:https://kgbarusentosa.nadi.my/event/e-pembelajaran-kuiz-atas-talian-advokasi/
CATEGORIES:DEFAULT
END:VEVENT
BEGIN:VEVENT
DTSTART;TZID=UTC:20230415T080000
DTEND;TZID=UTC:20230422T170000
DTSTAMP:20260422T041518
CREATED:20230331T232724Z
LAST-MODIFIED:20230331T232724Z
UID:4884-1681545600-1682182800@kgbarusentosa.nadi.my
SUMMARY:E-Perisian : Poster Sempena Hari Raya Aidilfitri
DESCRIPTION:
URL:https://kgbarusentosa.nadi.my/event/e-perisian-poster-sempena-hari-raya-aidilfitri/
CATEGORIES:DEFAULT
END:VEVENT
END:VCALENDAR